BEGIN:VCALENDAR
VERSION:2.0
PRODID:-//wp-events-plugin.com//7.2.3.1//EN
TZID:Europe/Berlin
X-WR-TIMEZONE:Europe/Berlin
BEGIN:VEVENT
UID:292@mhwk.de
DTSTART;TZID=Europe/Berlin:20191111T180000
DTEND;TZID=Europe/Berlin:20191111T193000
DTSTAMP:20190926T132150Z
URL:https://www.mhwk.de/events/zukunftstag-caspar-david-friedrich-schule/
SUMMARY:Zukunftstag Caspar-David-Friedrich Schule
DESCRIPTION:
LOCATION:Caspar-David-Friedrich Schule\, Alte Hellersdorfer Straße 7\, Ber
 lin\, 12629\, Deutschland
GEO:52.5352225;13.5910169
X-APPLE-STRUCTURED-LOCATION;VALUE=URI;X-ADDRESS=Alte Hellersdorfer Straße 
 7\, Berlin\, 12629\, Deutschland;X-APPLE-RADIUS=100;X-TITLE=Caspar-David-F
 riedrich Schule:geo:52.5352225,13.5910169
END:VEVENT
BEGIN:VTIMEZONE
TZID:Europe/Berlin
X-LIC-LOCATION:Europe/Berlin
BEGIN:STANDARD
DTSTART:20191027T020000
TZOFFSETFROM:+0200
TZOFFSETTO:+0100
TZNAME:CET
END:STANDARD
END:VTIMEZONE
END:VCALENDAR