BEGIN:VCALENDAR
VERSION:2.0
PRODID:-//wp-events-plugin.com//7.2.3.1//EN
TZID:Europe/Berlin
X-WR-TIMEZONE:Europe/Berlin
BEGIN:VEVENT
UID:399@mhwk.de
DTSTART;TZID=Europe/Berlin:20220509T170000
DTEND;TZID=Europe/Berlin:20220509T170000
DTSTAMP:20220502T110331Z
URL:https://www.mhwk.de/events/wista-mhwk-laden-ein-zur-veranstaltung-sozi
 ales-engagement-in-marzahn/
SUMMARY:WISTA & MHWK laden ein zur Veranstaltung Soziales Engagement in Mar
 zahn
DESCRIPTION:
LOCATION:Flexim GmbH\, Boxberger Straße 4\, Berlin\, 12681\, Deutschland
GEO:51.8186161;14.041157099999964
X-APPLE-STRUCTURED-LOCATION;VALUE=URI;X-ADDRESS=Boxberger Straße 4\, Berli
 n\, 12681\, Deutschland;X-APPLE-RADIUS=100;X-TITLE=Flexim GmbH:geo:51.8186
 161,14.041157099999964
END:VEVENT
BEGIN:VTIMEZONE
TZID:Europe/Berlin
X-LIC-LOCATION:Europe/Berlin
BEGIN:DAYLIGHT
DTSTART:20220327T030000
TZOFFSETFROM:+0100
TZOFFSETTO:+0200
TZNAME:CEST
END:DAYLIGHT
END:VTIMEZONE
END:VCALENDAR