BEGIN:VCALENDAR
VERSION:2.0
PRODID:-//wp-events-plugin.com//7.2.3.1//EN
TZID:Europe/Berlin
X-WR-TIMEZONE:Europe/Berlin
BEGIN:VEVENT
UID:6@mhwk.de
DTSTART;TZID=Europe/Berlin:20150415T180000
DTEND;TZID=Europe/Berlin:20150415T203000
DTSTAMP:20150416T093532Z
URL:https://www.mhwk.de/events/wir-unternehmen-zukunft-vergabe-der-ausbild
 ungspreise-2014/
SUMMARY:Wir Unternehmen Zukunft - Vergabe der Ausbildungspreise 2014
DESCRIPTION:Auszeichnungsveranstaltung
ATTACH;FMTTYPE=image/jpeg:https://www.mhwk.de/wp-content/uploads/2014/12/a
 lte-boerse-e1423217378893.jpg
CATEGORIES:MHWK-Unternehmertreff
LOCATION:Alte Börse Marzahn\, Beilsteiner Straße  81\, Berlin\, 12681\, D
 eutschland
GEO:52.52015;13.527510000000007
X-APPLE-STRUCTURED-LOCATION;VALUE=URI;X-ADDRESS=Beilsteiner Straße  81\, B
 erlin\, 12681\, Deutschland;X-APPLE-RADIUS=100;X-TITLE=Alte Börse Marzahn
 :geo:52.52015,13.527510000000007
END:VEVENT
BEGIN:VTIMEZONE
TZID:Europe/Berlin
X-LIC-LOCATION:Europe/Berlin
BEGIN:DAYLIGHT
DTSTART:20150329T030000
TZOFFSETFROM:+0100
TZOFFSETTO:+0200
TZNAME:CEST
END:DAYLIGHT
END:VTIMEZONE
END:VCALENDAR