BEGIN:VCALENDAR
VERSION:2.0
PRODID:-//wp-events-plugin.com//7.2.3.1//EN
TZID:Europe/Berlin
X-WR-TIMEZONE:Europe/Berlin
BEGIN:VEVENT
UID:415@mhwk.de
DTSTART;TZID=Europe/Berlin:20221206T113000
DTEND;TZID=Europe/Berlin:20221206T113000
DTSTAMP:20221123T131740Z
URL:https://www.mhwk.de/events/vorstand-trifft-bezirkskollegium/
SUMMARY:Vorstand trifft Bezirkskollegium
DESCRIPTION:
CATEGORIES:Vorstandssitzung
END:VEVENT
BEGIN:VTIMEZONE
TZID:Europe/Berlin
X-LIC-LOCATION:Europe/Berlin
BEGIN:STANDARD
DTSTART:20221030T020000
TZOFFSETFROM:+0200
TZOFFSETTO:+0100
TZNAME:CET
END:STANDARD
END:VTIMEZONE
END:VCALENDAR