BEGIN:VCALENDAR
VERSION:2.0
PRODID:-//wp-events-plugin.com//7.2.3.1//EN
TZID:Europe/Berlin
X-WR-TIMEZONE:Europe/Berlin
BEGIN:VEVENT
UID:16@mhwk.de
DTSTART;TZID=Europe/Berlin:20150327T110000
DTEND;TZID=Europe/Berlin:20150327T133000
DTSTAMP:20150318T072043Z
URL:https://www.mhwk.de/events/voroesterlicher-spaziergang/
SUMMARY:Vorösterlicher Spaziergang
DESCRIPTION:Traditioneller Spaziergang durch die Gärten der Welt
CATEGORIES:Sport &amp; Freizeit
LOCATION:Gärten der Welt\, Eisenacher Straße 99\, Berlin\, 12685\, Deutsc
 hland
GEO:52.5396945;13.578777299999956
X-APPLE-STRUCTURED-LOCATION;VALUE=URI;X-ADDRESS=Eisenacher Straße 99\, Ber
 lin\, 12685\, Deutschland;X-APPLE-RADIUS=100;X-TITLE=Gärten der Welt:geo:
 52.5396945,13.578777299999956
END:VEVENT
BEGIN:VTIMEZONE
TZID:Europe/Berlin
X-LIC-LOCATION:Europe/Berlin
BEGIN:STANDARD
DTSTART:20141026T020000
TZOFFSETFROM:+0200
TZOFFSETTO:+0100
TZNAME:CET
END:STANDARD
END:VTIMEZONE
END:VCALENDAR