BEGIN:VCALENDAR
VERSION:2.0
PRODID:-//wp-events-plugin.com//7.2.3.1//EN
TZID:Europe/Berlin
X-WR-TIMEZONE:Europe/Berlin
BEGIN:VEVENT
UID:537@mhwk.de
DTSTART;TZID=Europe/Berlin:20260320T100000
DTEND;TZID=Europe/Berlin:20260320T120000
DTSTAMP:20251029T074024Z
URL:https://www.mhwk.de/events/voroesterlicher-spaziergang-4/
SUMMARY:Vorösterlicher Spaziergang
DESCRIPTION:
CATEGORIES:MHWK-Unternehmerinnentreff,MHWK-Unternehmertreff,Sport &amp;
 Freizeit,Unternehmertreffen
LOCATION:Besucherzentrum Gärten der Welt\, Blumberger Damm 44\, Berlin\, 1
 2685\, Deutschland
GEO:52.52780689999999;13.56595500000003
X-APPLE-STRUCTURED-LOCATION;VALUE=URI;X-ADDRESS=Blumberger Damm 44\, Berlin
 \, 12685\, Deutschland;X-APPLE-RADIUS=100;X-TITLE=Besucherzentrum Gärten 
 der Welt:geo:52.52780689999999,13.56595500000003
END:VEVENT
BEGIN:VTIMEZONE
TZID:Europe/Berlin
X-LIC-LOCATION:Europe/Berlin
BEGIN:STANDARD
DTSTART:20251026T020000
TZOFFSETFROM:+0200
TZOFFSETTO:+0100
TZNAME:CET
END:STANDARD
END:VTIMEZONE
END:VCALENDAR