BEGIN:VCALENDAR
VERSION:2.0
PRODID:-//wp-events-plugin.com//7.2.3.1//EN
TZID:Europe/Berlin
X-WR-TIMEZONE:Europe/Berlin
BEGIN:VEVENT
UID:346@mhwk.de
DTSTART;TZID=Europe/Berlin:20210503T173000
DTEND;TZID=Europe/Berlin:20210503T190000
DTSTAMP:20210420T083409Z
URL:https://www.mhwk.de/events/virtueller-mhwk-unternehmerinnentreff/
SUMMARY:Virtueller MHWK-Unternehmerinnentreff
DESCRIPTION:gerade vielen Unternehmerinnen fehlt in diesen schwierigen Zeit
 en der Austausch. Leider ist es nicht sicher absehbar\, wann persönliche 
 Treffen wieder möglich sein werden. Das ist eine anstrengende Situation.\
 n\nZiel dieser Unternehmerinnen-Runde ist es zusammenzutragen\,\n\n 	welch
 e Interessen\, Wünsche und Bedarfe Sie als Unternehmerin im MHWK haben\,\
 n 	was Sie brauchen\, um bei Kraft und guter Laune zu bleiben\,\n 	wie wir
  uns als Unternehmerinnen gegenseitig unterstützen können.\n\nLassen Sie
  uns gemeinsam nach Möglichkeiten für Umsetzungen suchen - als Unterneh
 merinnen im MHWK-Netzwerk.\n\nWarten wir nicht auf bessere Zeiten. Jetzt i
 st der richtige Zeitpunkt für einen neuen Anfang\, für Experimente und f
 ür Austausch.
CATEGORIES:MHWK-Unternehmerinnentreff
END:VEVENT
BEGIN:VTIMEZONE
TZID:Europe/Berlin
X-LIC-LOCATION:Europe/Berlin
BEGIN:DAYLIGHT
DTSTART:20210328T030000
TZOFFSETFROM:+0100
TZOFFSETTO:+0200
TZNAME:CEST
END:DAYLIGHT
END:VTIMEZONE
END:VCALENDAR