BEGIN:VCALENDAR
VERSION:2.0
PRODID:-//wp-events-plugin.com//7.2.3.1//EN
TZID:Europe/Berlin
X-WR-TIMEZONE:Europe/Berlin
BEGIN:VEVENT
UID:420@mhwk.de
DTSTART;TZID=Europe/Berlin:20230130T170000
DTEND;TZID=Europe/Berlin:20230130T170000
DTSTAMP:20221123T132007Z
URL:https://www.mhwk.de/events/unternehmertreff-gesundheitswirtschaft-4/
SUMMARY:Unternehmertreff Gesundheitswirtschaft
DESCRIPTION:Thema Ausbildung und Fachkräfte
CATEGORIES:MHWK-Unternehmertreff
END:VEVENT
BEGIN:VTIMEZONE
TZID:Europe/Berlin
X-LIC-LOCATION:Europe/Berlin
BEGIN:STANDARD
DTSTART:20221030T020000
TZOFFSETFROM:+0200
TZOFFSETTO:+0100
TZNAME:CET
END:STANDARD
END:VTIMEZONE
END:VCALENDAR