BEGIN:VCALENDAR
VERSION:2.0
PRODID:-//wp-events-plugin.com//7.2.3.1//EN
TZID:Europe/Berlin
X-WR-TIMEZONE:Europe/Berlin
BEGIN:VEVENT
UID:320@mhwk.de
DTSTART;TZID=Europe/Berlin:20200714T150000
DTEND;TZID=Europe/Berlin:20200714T163000
DTSTAMP:20200713T191853Z
URL:https://www.mhwk.de/events/unternehmertreff-digitalisierung/
SUMMARY:Unternehmertreff "Digitalisierung" (verlegt auf September)
DESCRIPTION:Videokonferenz zur Digitalisierung der Finanzbuchhaltung
END:VEVENT
BEGIN:VTIMEZONE
TZID:Europe/Berlin
X-LIC-LOCATION:Europe/Berlin
BEGIN:DAYLIGHT
DTSTART:20200329T030000
TZOFFSETFROM:+0100
TZOFFSETTO:+0200
TZNAME:CEST
END:DAYLIGHT
END:VTIMEZONE
END:VCALENDAR