BEGIN:VCALENDAR
VERSION:2.0
PRODID:-//wp-events-plugin.com//7.2.3.1//EN
TZID:Europe/Berlin
X-WR-TIMEZONE:Europe/Berlin
BEGIN:VEVENT
UID:542@mhwk.de
DTSTART;TZID=Europe/Berlin:20260606T190000
DTEND;TZID=Europe/Berlin:20260606T234500
DTSTAMP:20260114T125919Z
URL:https://www.mhwk.de/events/unternehmerparty-im-stadion-an-der-alten-fo
 ersterei/
SUMMARY:Unternehmerparty im Stadion "An der Alten Försterei"
DESCRIPTION:
CATEGORIES:MHWK-Unternehmerinnentreff,MHWK-Unternehmerparty,MHWK-Unternehm
 ertreff,Unternehmertreffen
LOCATION:Stadion An der Alten Försterei\, An der Wuhlheide 263\, Berlin\, 
 12555\, Deutschland
X-APPLE-STRUCTURED-LOCATION;VALUE=URI;X-ADDRESS=An der Wuhlheide 263\, Berl
 in\, 12555\, Deutschland;X-APPLE-RADIUS=100;X-TITLE=Stadion An der Alten F
 örsterei:geo:0,0
END:VEVENT
BEGIN:VTIMEZONE
TZID:Europe/Berlin
X-LIC-LOCATION:Europe/Berlin
BEGIN:DAYLIGHT
DTSTART:20260329T030000
TZOFFSETFROM:+0100
TZOFFSETTO:+0200
TZNAME:CEST
END:DAYLIGHT
END:VTIMEZONE
END:VCALENDAR