BEGIN:VCALENDAR
VERSION:2.0
PRODID:-//wp-events-plugin.com//7.2.3.1//EN
TZID:Europe/Berlin
X-WR-TIMEZONE:Europe/Berlin
BEGIN:VEVENT
UID:295@mhwk.de
DTSTART;TZID=Europe/Berlin:20191128T180000
DTEND;TZID=Europe/Berlin:20191128T210000
DTSTAMP:20191111T130251Z
URL:https://www.mhwk.de/events/unternehmerinnentreff-2/
SUMMARY:Unternehmerinnentreff
DESCRIPTION:Vorweihnachtliches Kochen
LOCATION:B1 Businesspark\, Esszimmer Mahlsdorf\, Landsberger Straße 248\, 
 Berlin\, 12623\, Deutschland
GEO:52.5060462;13.622482900000023
X-APPLE-STRUCTURED-LOCATION;VALUE=URI;X-ADDRESS=Landsberger Straße 248\, B
 erlin\, 12623\, Deutschland;X-APPLE-RADIUS=100;X-TITLE=B1 Businesspark\, E
 sszimmer Mahlsdorf:geo:52.5060462,13.622482900000023
END:VEVENT
BEGIN:VTIMEZONE
TZID:Europe/Berlin
X-LIC-LOCATION:Europe/Berlin
BEGIN:STANDARD
DTSTART:20191027T020000
TZOFFSETFROM:+0200
TZOFFSETTO:+0100
TZNAME:CET
END:STANDARD
END:VTIMEZONE
END:VCALENDAR