BEGIN:VCALENDAR
VERSION:2.0
PRODID:-//wp-events-plugin.com//7.2.3.1//EN
TZID:Europe/Berlin
X-WR-TIMEZONE:Europe/Berlin
BEGIN:VEVENT
UID:26@mhwk.de
DTSTART;TZID=Europe/Berlin:20150527T090000
DTEND;TZID=Europe/Berlin:20150527T110000
DTSTAMP:20150407T084244Z
URL:https://www.mhwk.de/events/unternehmer-in-die-schule/
SUMMARY:Unternehmen in die Schule
DESCRIPTION:
LOCATION:Wilhelm-von-Siemens-Gymnasium\, Allee der Kosmonauten 134\, Berlin
 \, 12683\, Deutschland
GEO:52.5335706;13.551105499999949
X-APPLE-STRUCTURED-LOCATION;VALUE=URI;X-ADDRESS=Allee der Kosmonauten 134\,
  Berlin\, 12683\, Deutschland;X-APPLE-RADIUS=100;X-TITLE=Wilhelm-von-Sieme
 ns-Gymnasium:geo:52.5335706,13.551105499999949
END:VEVENT
BEGIN:VTIMEZONE
TZID:Europe/Berlin
X-LIC-LOCATION:Europe/Berlin
BEGIN:DAYLIGHT
DTSTART:20150329T030000
TZOFFSETFROM:+0100
TZOFFSETTO:+0200
TZNAME:CEST
END:DAYLIGHT
END:VTIMEZONE
END:VCALENDAR