BEGIN:VCALENDAR
VERSION:2.0
PRODID:-//wp-events-plugin.com//7.2.3.1//EN
TZID:Europe/Berlin
X-WR-TIMEZONE:Europe/Berlin
BEGIN:VEVENT
UID:317@mhwk.de
DTSTART;TZID=Europe/Berlin:20200626T104500
DTEND;TZID=Europe/Berlin:20200626T123000
DTSTAMP:20200616T091826Z
URL:https://www.mhwk.de/events/spaziergang-in-den-gaerten-der-welt/
SUMMARY:Spaziergang in den Gärten der Welt
DESCRIPTION:\n 	Hinweis: Aufgrund der begrenzten Teilnehmerzahl ist es leid
 er nicht möglich\, dass Gäste bzw. Begleitungen am Spaziergang teilnehme
 n können.\n 	Der Spaziergang findet auch bei schlechtem Wetter statt.\n
CATEGORIES:MHWK-Unternehmertreff,Sport &amp; Freizeit
LOCATION:IGA-Haupteingang „Gärten der Welt“ am Blumberger Damm\, Blumb
 erger Damm 44\, Berlin\, 12685\, Deutschland
GEO:52.535883;13.56712390000007
X-APPLE-STRUCTURED-LOCATION;VALUE=URI;X-ADDRESS=Blumberger Damm 44\, Berlin
 \, 12685\, Deutschland;X-APPLE-RADIUS=100;X-TITLE=IGA-Haupteingang „Gär
 ten der Welt“ am Blumberger Damm:geo:52.535883,13.56712390000007
END:VEVENT
BEGIN:VTIMEZONE
TZID:Europe/Berlin
X-LIC-LOCATION:Europe/Berlin
BEGIN:DAYLIGHT
DTSTART:20200329T030000
TZOFFSETFROM:+0100
TZOFFSETTO:+0200
TZNAME:CEST
END:DAYLIGHT
END:VTIMEZONE
END:VCALENDAR