BEGIN:VCALENDAR
VERSION:2.0
PRODID:-//wp-events-plugin.com//7.2.3.1//EN
TZID:Europe/Berlin
X-WR-TIMEZONE:Europe/Berlin
BEGIN:VEVENT
UID:285@mhwk.de
DTSTART;TZID=Europe/Berlin:20190905T180000
DTEND;TZID=Europe/Berlin:20190905T220000
DTSTAMP:20190712T121627Z
URL:https://www.mhwk.de/events/skatturnier-2/
SUMMARY:Skatturnier
DESCRIPTION:Gemeinschaftsveranstaltung von MHWK\, nsw24 Netzwerk Sport- dur
 ch Wirtschaftsförderung und FELIX Wohnungsgenossenschaft eG
LOCATION:FELIX-Punkt-Club\, Schwarzburger Straße 10\, Berlin\, 12689\, Deu
 tschland
X-APPLE-STRUCTURED-LOCATION;VALUE=URI;X-ADDRESS=Schwarzburger Straße 10\, 
 Berlin\, 12689\, Deutschland;X-APPLE-RADIUS=100;X-TITLE=FELIX-Punkt-Club:g
 eo:0,0
END:VEVENT
BEGIN:VTIMEZONE
TZID:Europe/Berlin
X-LIC-LOCATION:Europe/Berlin
BEGIN:DAYLIGHT
DTSTART:20190331T030000
TZOFFSETFROM:+0100
TZOFFSETTO:+0200
TZNAME:CEST
END:DAYLIGHT
END:VTIMEZONE
END:VCALENDAR