BEGIN:VCALENDAR
VERSION:2.0
PRODID:-//wp-events-plugin.com//7.2.3.1//EN
TZID:Europe/Berlin
X-WR-TIMEZONE:Europe/Berlin
BEGIN:VEVENT
UID:341@mhwk.de
DTSTART;TZID=Europe/Berlin:20201029T153000
DTEND;TZID=Europe/Berlin:20201029T190000
DTSTAMP:20200910T131645Z
URL:https://www.mhwk.de/events/schifffahrt-mit-bwsg/
SUMMARY:Schifffahrt mit BWSG
DESCRIPTION:
CATEGORIES:MHWK-Unternehmertreff,Sport &amp; Freizeit,Unternehmertreffen
LOCATION:BWSG Berliner Wassersport und Service GmbH & Co. Betriebs KG\, Wen
 denschloßstraße 350-354\, Berlin\, 12557\, Deutschland
X-APPLE-STRUCTURED-LOCATION;VALUE=URI;X-ADDRESS=Wendenschloßstraße 350-35
 4\, Berlin\, 12557\, Deutschland;X-APPLE-RADIUS=100;X-TITLE=BWSG Berliner 
 Wassersport und Service GmbH & Co. Betriebs KG:geo:0,0
END:VEVENT
BEGIN:VTIMEZONE
TZID:Europe/Berlin
X-LIC-LOCATION:Europe/Berlin
BEGIN:STANDARD
DTSTART:20201025T020000
TZOFFSETFROM:+0200
TZOFFSETTO:+0100
TZNAME:CET
END:STANDARD
END:VTIMEZONE
END:VCALENDAR