BEGIN:VCALENDAR
VERSION:2.0
PRODID:-//wp-events-plugin.com//7.2.3.1//EN
TZID:Europe/Berlin
X-WR-TIMEZONE:Europe/Berlin
BEGIN:VEVENT
UID:338@mhwk.de
DTSTART;TZID=Europe/Berlin:20200909T153000
DTEND;TZID=Europe/Berlin:20200909T153000
DTSTAMP:20200902T080023Z
URL:https://www.mhwk.de/events/runder-tisch-schule-wirtschaft-smartzahn-cl
 eversdorf-2/
SUMMARY:Runder Tisch Schule-Wirtschaft (Smartzahn-Cleversdorf)
DESCRIPTION:Wir wollen Akteure aus Schule und Unternehmen im Bezirk stärke
 r miteinander vernetzen und initiieren den 1. Runden Tisch Schule-Wirtscha
 ft. Dafür bieten wir Ihnen zwei Termine zur Auswahl an.\n\n 	    Donne
 rstag\, 03.09.2020\, 15:30 - 17:00 Uhr\, Aula - Otto Nagel Gymnasium (Schu
 lstraße 11\, 12683 Berlin)\n 	    Mittwoch\, 09.09.2020\, 15:30 - 17:0
 0 Uhr\, BIZ - Bezirkliches Informationszentrum (Hellersdorfer Straße 159)
 \n
CATEGORIES:MHWK-Unternehmertreff,Unternehmertreffen
LOCATION:BIZ - Bezirkliches Informationszentrum\, Hellersdorfer Str. 159\, 
 Berlin\, 12619\, Deutschland
X-APPLE-STRUCTURED-LOCATION;VALUE=URI;X-ADDRESS=Hellersdorfer Str. 159\, Be
 rlin\, 12619\, Deutschland;X-APPLE-RADIUS=100;X-TITLE=BIZ - Bezirkliches I
 nformationszentrum:geo:0,0
END:VEVENT
BEGIN:VTIMEZONE
TZID:Europe/Berlin
X-LIC-LOCATION:Europe/Berlin
BEGIN:DAYLIGHT
DTSTART:20200329T030000
TZOFFSETFROM:+0100
TZOFFSETTO:+0200
TZNAME:CEST
END:DAYLIGHT
END:VTIMEZONE
END:VCALENDAR