BEGIN:VCALENDAR
VERSION:2.0
PRODID:-//wp-events-plugin.com//7.2.3.1//EN
TZID:Europe/Berlin
X-WR-TIMEZONE:Europe/Berlin
BEGIN:VEVENT
UID:12@mhwk.de
DTSTART;TZID=Europe/Berlin:20150312T180000
DTEND;TZID=Europe/Berlin:20150312T180000
DTSTAMP:20150311T141129Z
URL:https://www.mhwk.de/events/mhwknsw24-skatturnier/
SUMMARY:MHWK/nsw24 Skatturnier
DESCRIPTION:Gemeinschaftsveranstaltung des MHWK nsw24 – Netzwerk Sport- d
 urch Wirtschaftsförderung GmbH und DSKV – Deutscher Skatverband 
CATEGORIES:Sport &amp; Freizeit
LOCATION:Hotel Kolumbus\, Gensler Straße 18\, Berlin\, 13055\, Deutschland
GEO:52.53931;13.498659999999973
X-APPLE-STRUCTURED-LOCATION;VALUE=URI;X-ADDRESS=Gensler Straße 18\, Berlin
 \, 13055\, Deutschland;X-APPLE-RADIUS=100;X-TITLE=Hotel Kolumbus:geo:52.53
 931,13.498659999999973
END:VEVENT
BEGIN:VTIMEZONE
TZID:Europe/Berlin
X-LIC-LOCATION:Europe/Berlin
BEGIN:STANDARD
DTSTART:20141026T020000
TZOFFSETFROM:+0200
TZOFFSETTO:+0100
TZNAME:CET
END:STANDARD
END:VTIMEZONE
END:VCALENDAR