BEGIN:VCALENDAR
VERSION:2.0
PRODID:-//wp-events-plugin.com//7.2.3.1//EN
TZID:Europe/Berlin
X-WR-TIMEZONE:Europe/Berlin
BEGIN:VEVENT
UID:10@mhwk.de
DTSTART;TZID=Europe/Berlin:20150310T170000
DTEND;TZID=Europe/Berlin:20150310T170000
DTSTAMP:20150311T133100Z
URL:https://www.mhwk.de/events/mhwk-unternehmertreff-gesundheitswirtschaft
 /
SUMMARY:MHWK-Unternehmertreff Gesundheitswirtschaft
DESCRIPTION:Thema: Netzwerk Gesundheitswirtschaft Marzahn-Hellersdorf\n
CATEGORIES:MHWK-Unternehmertreff
LOCATION:Alte Börse Marzahn\, Beilsteiner Straße  81\, Berlin\, 12681\, D
 eutschland
GEO:52.52015;13.527510000000007
X-APPLE-STRUCTURED-LOCATION;VALUE=URI;X-ADDRESS=Beilsteiner Straße  81\, B
 erlin\, 12681\, Deutschland;X-APPLE-RADIUS=100;X-TITLE=Alte Börse Marzahn
 :geo:52.52015,13.527510000000007
END:VEVENT
BEGIN:VTIMEZONE
TZID:Europe/Berlin
X-LIC-LOCATION:Europe/Berlin
BEGIN:STANDARD
DTSTART:20141026T020000
TZOFFSETFROM:+0200
TZOFFSETTO:+0100
TZNAME:CET
END:STANDARD
END:VTIMEZONE
END:VCALENDAR