BEGIN:VCALENDAR
VERSION:2.0
PRODID:-//wp-events-plugin.com//7.2.3.1//EN
TZID:Europe/Berlin
X-WR-TIMEZONE:Europe/Berlin
BEGIN:VEVENT
UID:25@mhwk.de
DTSTART;TZID=Europe/Berlin:20150602T180000
DTEND;TZID=Europe/Berlin:20150602T200000
DTSTAMP:20150601T115831Z
URL:https://www.mhwk.de/events/mhwk-unternehmertreff-6/
SUMMARY:MHWK-Unternehmertreff
DESCRIPTION:Besuch des neuen Gesundheitszentrums am ukb (ausgebucht) - Einl
 adung
CATEGORIES:MHWK-Unternehmertreff
LOCATION:Gesundheitszentrum am ukb\, Warener Straße 1\, Berlin\, 12681\, D
 eutschland
GEO:52.5190137;13.564470400000005
X-APPLE-STRUCTURED-LOCATION;VALUE=URI;X-ADDRESS=Warener Straße 1\, Berlin\
 , 12681\, Deutschland;X-APPLE-RADIUS=100;X-TITLE=Gesundheitszentrum am ukb
 :geo:52.5190137,13.564470400000005
END:VEVENT
BEGIN:VTIMEZONE
TZID:Europe/Berlin
X-LIC-LOCATION:Europe/Berlin
BEGIN:DAYLIGHT
DTSTART:20150329T030000
TZOFFSETFROM:+0100
TZOFFSETTO:+0200
TZNAME:CEST
END:DAYLIGHT
END:VTIMEZONE
END:VCALENDAR