BEGIN:VCALENDAR
VERSION:2.0
PRODID:-//wp-events-plugin.com//7.2.3.1//EN
TZID:Europe/Berlin
X-WR-TIMEZONE:Europe/Berlin
BEGIN:VEVENT
UID:15@mhwk.de
DTSTART;TZID=Europe/Berlin:20150325T180000
DTEND;TZID=Europe/Berlin:20150325T200000
DTSTAMP:20150316T132633Z
URL:https://www.mhwk.de/events/mhwk-unternehmertreff-4/
SUMMARY:MHWK-Unternehmertreff
DESCRIPTION:Thema: Öffentliche Vergabe
CATEGORIES:MHWK-Unternehmertreff
LOCATION:Autohaus Koch\, Marzahner Chaussee 219\, Berlin\, 12681\, Deutschl
 and
GEO:52.51891;13.52950999999996
X-APPLE-STRUCTURED-LOCATION;VALUE=URI;X-ADDRESS=Marzahner Chaussee 219\, Be
 rlin\, 12681\, Deutschland;X-APPLE-RADIUS=100;X-TITLE=Autohaus Koch:geo:52
 .51891,13.52950999999996
END:VEVENT
BEGIN:VTIMEZONE
TZID:Europe/Berlin
X-LIC-LOCATION:Europe/Berlin
BEGIN:STANDARD
DTSTART:20141026T020000
TZOFFSETFROM:+0200
TZOFFSETTO:+0100
TZNAME:CET
END:STANDARD
END:VTIMEZONE
END:VCALENDAR