BEGIN:VCALENDAR
VERSION:2.0
PRODID:-//wp-events-plugin.com//7.2.3.1//EN
TZID:Europe/Berlin
X-WR-TIMEZONE:Europe/Berlin
BEGIN:VEVENT
UID:7@mhwk.de
DTSTART;TZID=Europe/Berlin:20150224T180000
DTEND;TZID=Europe/Berlin:20150224T200000
DTSTAMP:20150218T095242Z
URL:https://www.mhwk.de/events/mhwk-unternehmertreff-2/
SUMMARY:MHWK-Unternehmertreff
DESCRIPTION:Gedankenaustausch mit Herrn Dr.-Ing. Daniel Bandow\, Koordinato
 r des DLR-Technologiemarketings (Region Nord und Ost) zum Technologietrans
 fer.\nLernen Sie gleichzeitig das CleanTech Innovation Center kennen.
CATEGORIES:MHWK-Unternehmertreff
LOCATION:CleanTech Innovation Center\, Wolfener Str. 32-34 Haus K – 4. Et
 age\, Berlin\, 12681\, Deutschland
GEO:52.5546409;13.539810999999986
X-APPLE-STRUCTURED-LOCATION;VALUE=URI;X-ADDRESS=Wolfener Str. 32-34 Haus K 
 – 4. Etage\, Berlin\, 12681\, Deutschland;X-APPLE-RADIUS=100;X-TITLE=Cle
 anTech Innovation Center:geo:52.5546409,13.539810999999986
END:VEVENT
BEGIN:VTIMEZONE
TZID:Europe/Berlin
X-LIC-LOCATION:Europe/Berlin
BEGIN:STANDARD
DTSTART:20141026T020000
TZOFFSETFROM:+0200
TZOFFSETTO:+0100
TZNAME:CET
END:STANDARD
END:VTIMEZONE
END:VCALENDAR