BEGIN:VCALENDAR
VERSION:2.0
PRODID:-//wp-events-plugin.com//7.2.3.1//EN
TZID:Europe/Berlin
X-WR-TIMEZONE:Europe/Berlin
BEGIN:VEVENT
UID:289@mhwk.de
DTSTART;TZID=Europe/Berlin:20190909T083000
DTEND;TZID=Europe/Berlin:20190909T173000
DTSTAMP:20190817T120602Z
URL:https://www.mhwk.de/events/mhwk-unternehmerreise-6/
SUMMARY:MHWK-Unternehmerreise
DESCRIPTION:
LOCATION:P+R Parkplatz S-Bahnhof Marzahn\, Märkische Alle 176\, Berlin\, D
 eutschland\, 12681\, Deutschland
X-APPLE-STRUCTURED-LOCATION;VALUE=URI;X-ADDRESS=Märkische Alle 176\, Berli
 n\, Deutschland\, 12681\, Deutschland;X-APPLE-RADIUS=100;X-TITLE=P+R Parkp
 latz S-Bahnhof Marzahn:geo:0,0
END:VEVENT
BEGIN:VTIMEZONE
TZID:Europe/Berlin
X-LIC-LOCATION:Europe/Berlin
BEGIN:DAYLIGHT
DTSTART:20190331T030000
TZOFFSETFROM:+0100
TZOFFSETTO:+0200
TZNAME:CEST
END:DAYLIGHT
END:VTIMEZONE
END:VCALENDAR