BEGIN:VCALENDAR
VERSION:2.0
PRODID:-//wp-events-plugin.com//7.2.3.1//EN
TZID:Europe/Berlin
X-WR-TIMEZONE:Europe/Berlin
BEGIN:VEVENT
UID:11@mhwk.de
DTSTART;TZID=Europe/Berlin:20150312T180000
DTEND;TZID=Europe/Berlin:20150312T200000
DTSTAMP:20150311T120447Z
URL:https://www.mhwk.de/events/mhwk-unternehmerinnentreff/
SUMMARY:MHWK-Unternehmerinnentreff
DESCRIPTION:Kennenlernen der Alten Börse und Jahresplanung 2015\n\nMehr In
 formation hier
ATTACH;FMTTYPE=image/jpeg:https://www.mhwk.de/wp-content/uploads/2015/02/U
 nternehmerinnen.jpg
CATEGORIES:MHWK-Unternehmerinnentreff
LOCATION:Alte Börse Marzahn\, Beilsteiner Straße  81\, Berlin\, 12681\, D
 eutschland
GEO:52.52015;13.527510000000007
X-APPLE-STRUCTURED-LOCATION;VALUE=URI;X-ADDRESS=Beilsteiner Straße  81\, B
 erlin\, 12681\, Deutschland;X-APPLE-RADIUS=100;X-TITLE=Alte Börse Marzahn
 :geo:52.52015,13.527510000000007
END:VEVENT
BEGIN:VTIMEZONE
TZID:Europe/Berlin
X-LIC-LOCATION:Europe/Berlin
BEGIN:STANDARD
DTSTART:20141026T020000
TZOFFSETFROM:+0200
TZOFFSETTO:+0100
TZNAME:CET
END:STANDARD
END:VTIMEZONE
END:VCALENDAR