BEGIN:VCALENDAR
VERSION:2.0
PRODID:-//wp-events-plugin.com//7.2.3.1//EN
TZID:Europe/Berlin
X-WR-TIMEZONE:Europe/Berlin
BEGIN:VEVENT
UID:24@mhwk.de
DTSTART;TZID=Europe/Berlin:20150528T180000
DTEND;TZID=Europe/Berlin:20150528T200000
DTSTAMP:20150505T083856Z
URL:https://www.mhwk.de/events/mhwk-unternehmerinnentreff-2/
SUMMARY:MHWK-Unternehmerinnentreff
DESCRIPTION:Mit dem Fahrrad vom U/S-Bahnhof Wuhletal um 17.15 Uhr zum Grün
 derzeitmuseum\nBesichtigung des Gründerzeitmuseums und anschließender Ge
 dankenaustausch\n\nDie Einladung finden Sie hier
CATEGORIES:MHWK-Unternehmerinnentreff
LOCATION:Gründerzeitmuseum im Gutshaus Mahlsdorf\, Hultschiner Damm 333\, 
 Berlin\, 12623\, Deutschland
GEO:52.50257;13.613939999999957
X-APPLE-STRUCTURED-LOCATION;VALUE=URI;X-ADDRESS=Hultschiner Damm 333\, Berl
 in\, 12623\, Deutschland;X-APPLE-RADIUS=100;X-TITLE=Gründerzeitmuseum im 
 Gutshaus Mahlsdorf:geo:52.50257,13.613939999999957
END:VEVENT
BEGIN:VTIMEZONE
TZID:Europe/Berlin
X-LIC-LOCATION:Europe/Berlin
BEGIN:DAYLIGHT
DTSTART:20150329T030000
TZOFFSETFROM:+0100
TZOFFSETTO:+0200
TZNAME:CEST
END:DAYLIGHT
END:VTIMEZONE
END:VCALENDAR