BEGIN:VCALENDAR
VERSION:2.0
PRODID:-//wp-events-plugin.com//7.2.3.1//EN
TZID:Europe/Berlin
X-WR-TIMEZONE:Europe/Berlin
BEGIN:VEVENT
UID:31@mhwk.de
DTSTART;TZID=Europe/Berlin:20150607T090000
DTEND;TZID=Europe/Berlin:20150607T170000
DTSTAMP:20150522T084250Z
URL:https://www.mhwk.de/events/mhwk-motoradtour/
SUMMARY:MHWK-Motoradtour
DESCRIPTION:\nZiel: Spargel essen in Kremmen (Länger der Tour: ca. 140 km)
 \nWegen der Vorbestellung von Plätzen in Restaurants bitten wir um persö
 nliche und verbindliche Anmeldungen an: j.heidemann@marzahn.de .\nNatürli
 ch fahren wir nicht\, falls es stark regnet.
CATEGORIES:Sport &amp; Freizeit
LOCATION:Shell Tankstelle\, Stendaler Straße 176\, Berlin\, 12627\, Deutsc
 hland
GEO:52.543948;13.603531500000031
X-APPLE-STRUCTURED-LOCATION;VALUE=URI;X-ADDRESS=Stendaler Straße 176\, Ber
 lin\, 12627\, Deutschland;X-APPLE-RADIUS=100;X-TITLE=Shell Tankstelle:geo:
 52.543948,13.603531500000031
END:VEVENT
BEGIN:VTIMEZONE
TZID:Europe/Berlin
X-LIC-LOCATION:Europe/Berlin
BEGIN:DAYLIGHT
DTSTART:20150329T030000
TZOFFSETFROM:+0100
TZOFFSETTO:+0200
TZNAME:CEST
END:DAYLIGHT
END:VTIMEZONE
END:VCALENDAR