BEGIN:VCALENDAR
VERSION:2.0
PRODID:-//wp-events-plugin.com//7.2.3.1//EN
TZID:Europe/Berlin
X-WR-TIMEZONE:Europe/Berlin
BEGIN:VEVENT
UID:13@mhwk.de
DTSTART;TZID=Europe/Berlin:20150316T180000
DTEND;TZID=Europe/Berlin:20150316T210000
DTSTAMP:20150218T112025Z
URL:https://www.mhwk.de/events/mhwk-mitgliederversammlung/
SUMMARY:MHWK-Mitgliederversammlung
DESCRIPTION:Der MHWK-Vorstand legt im Geschäftsbericht Rechenschaft über 
 die Vereinsarbeit 2014 ab und stellt den Finanzplan 2015 vor\n(persönlich
 e Einladung)
CATEGORIES:MHWK-Unternehmertreff
LOCATION:ABACUS TIEPARK HOTEL\, Franz-Mett-Straße 3-9\, Berlin\, 10319\, D
 eutschland
GEO:52.5021577;13.518731000000002
X-APPLE-STRUCTURED-LOCATION;VALUE=URI;X-ADDRESS=Franz-Mett-Straße 3-9\, Be
 rlin\, 10319\, Deutschland;X-APPLE-RADIUS=100;X-TITLE=ABACUS TIEPARK HOTEL
 :geo:52.5021577,13.518731000000002
END:VEVENT
BEGIN:VTIMEZONE
TZID:Europe/Berlin
X-LIC-LOCATION:Europe/Berlin
BEGIN:STANDARD
DTSTART:20141026T020000
TZOFFSETFROM:+0200
TZOFFSETTO:+0100
TZNAME:CET
END:STANDARD
END:VTIMEZONE
END:VCALENDAR