BEGIN:VCALENDAR
VERSION:2.0
PRODID:-//wp-events-plugin.com//7.2.3.1//EN
TZID:Europe/Berlin
X-WR-TIMEZONE:Europe/Berlin
BEGIN:VEVENT
UID:297@mhwk.de
DTSTART;TZID=Europe/Berlin:20200323T180000
DTEND;TZID=Europe/Berlin:20200323T200000
DTSTAMP:20200318T131030Z
URL:https://www.mhwk.de/events/mhwk-mitgliederversammlung-6/
SUMMARY:Abgesagt - MHWK-Mitgliederversammlung
DESCRIPTION:
CATEGORIES:MHWK-Mitgliederversammlung
LOCATION:ABACUS TIEPARK HOTEL\, Franz-Mett-Straße 3-9\, Berlin\, 10319\, D
 eutschland
GEO:52.5021577;13.518731000000002
X-APPLE-STRUCTURED-LOCATION;VALUE=URI;X-ADDRESS=Franz-Mett-Straße 3-9\, Be
 rlin\, 10319\, Deutschland;X-APPLE-RADIUS=100;X-TITLE=ABACUS TIEPARK HOTEL
 :geo:52.5021577,13.518731000000002
END:VEVENT
BEGIN:VTIMEZONE
TZID:Europe/Berlin
X-LIC-LOCATION:Europe/Berlin
BEGIN:STANDARD
DTSTART:20191027T020000
TZOFFSETFROM:+0200
TZOFFSETTO:+0100
TZNAME:CET
END:STANDARD
END:VTIMEZONE
END:VCALENDAR