BEGIN:VCALENDAR
VERSION:2.0
PRODID:-//wp-events-plugin.com//7.2.3.1//EN
TZID:Europe/Berlin
X-WR-TIMEZONE:Europe/Berlin
BEGIN:VEVENT
UID:538@mhwk.de
DTSTART;TZID=Europe/Berlin:20260420T180000
DTEND;TZID=Europe/Berlin:20260420T213000
DTSTAMP:20251029T120024Z
URL:https://www.mhwk.de/events/mhwk-mitgliederversammlung-10/
SUMMARY:MHWK Mitgliederversammlung
DESCRIPTION:
CATEGORIES:MHWK-Mitgliederversammlung,MHWK-Unternehmerinnentreff,MHWK-Unte
 rnehmertreff,Unternehmertreffen
LOCATION:ABACUS TIEPARK HOTEL\, Franz-Mett-Straße 3-9\, Berlin\, 10319\, D
 eutschland
GEO:52.5021577;13.518731000000002
X-APPLE-STRUCTURED-LOCATION;VALUE=URI;X-ADDRESS=Franz-Mett-Straße 3-9\, Be
 rlin\, 10319\, Deutschland;X-APPLE-RADIUS=100;X-TITLE=ABACUS TIEPARK HOTEL
 :geo:52.5021577,13.518731000000002
END:VEVENT
BEGIN:VTIMEZONE
TZID:Europe/Berlin
X-LIC-LOCATION:Europe/Berlin
BEGIN:DAYLIGHT
DTSTART:20260329T030000
TZOFFSETFROM:+0100
TZOFFSETTO:+0200
TZNAME:CEST
END:DAYLIGHT
END:VTIMEZONE
END:VCALENDAR