BEGIN:VCALENDAR
VERSION:2.0
PRODID:-//wp-events-plugin.com//7.2.3.1//EN
TZID:Europe/Berlin
X-WR-TIMEZONE:Europe/Berlin
BEGIN:VEVENT
UID:296@mhwk.de
DTSTART;TZID=Europe/Berlin:20200218T160000
DTEND;TZID=Europe/Berlin:20200218T203000
DTSTAMP:20200209T160038Z
URL:https://www.mhwk.de/events/mhwk-hallenfussballturnier-2/
SUMMARY:MHWK-Hallenfußballturnier
DESCRIPTION:
CATEGORIES:Sport &amp; Freizeit
LOCATION:Sporthalle Siemens-Gymnasium\, Allee der Kosmonauten 134\, Berlin\
 , 12681\, Deutschland
GEO:52.53363299999999;13.551477200000022
X-APPLE-STRUCTURED-LOCATION;VALUE=URI;X-ADDRESS=Allee der Kosmonauten 134\,
  Berlin\, 12681\, Deutschland;X-APPLE-RADIUS=100;X-TITLE=Sporthalle Siemen
 s-Gymnasium:geo:52.53363299999999,13.551477200000022
END:VEVENT
BEGIN:VTIMEZONE
TZID:Europe/Berlin
X-LIC-LOCATION:Europe/Berlin
BEGIN:STANDARD
DTSTART:20191027T020000
TZOFFSETFROM:+0200
TZOFFSETTO:+0100
TZNAME:CET
END:STANDARD
END:VTIMEZONE
END:VCALENDAR