BEGIN:VCALENDAR
VERSION:2.0
PRODID:-//wp-events-plugin.com//7.2.3.1//EN
TZID:Europe/Berlin
X-WR-TIMEZONE:Europe/Berlin
BEGIN:VEVENT
UID:28@mhwk.de
DTSTART;TZID=Europe/Berlin:20150519T090000
DTEND;TZID=Europe/Berlin:20150519T153000
DTSTAMP:20150407T091744Z
URL:https://www.mhwk.de/events/mhwk-golf-runde/
SUMMARY:MHWK-Golf-Runde
DESCRIPTION:zzgl. Kosten für Frühstück
CATEGORIES:Sport &amp; Freizeit
LOCATION:Golfplatz Prenden\, Waldweg 3\, Wandlitz OT Prenden\, 16348 \, Deu
 tschland
GEO:52.792292;13.548727999999983
X-APPLE-STRUCTURED-LOCATION;VALUE=URI;X-ADDRESS=Waldweg 3\, Wandlitz OT Pre
 nden\, 16348 \, Deutschland;X-APPLE-RADIUS=100;X-TITLE=Golfplatz Prenden:g
 eo:52.792292,13.548727999999983
END:VEVENT
BEGIN:VTIMEZONE
TZID:Europe/Berlin
X-LIC-LOCATION:Europe/Berlin
BEGIN:DAYLIGHT
DTSTART:20150329T030000
TZOFFSETFROM:+0100
TZOFFSETTO:+0200
TZNAME:CEST
END:DAYLIGHT
END:VTIMEZONE
END:VCALENDAR