BEGIN:VCALENDAR
VERSION:2.0
PRODID:-//wp-events-plugin.com//7.2.3.1//EN
TZID:Europe/Berlin
X-WR-TIMEZONE:Europe/Berlin
BEGIN:VEVENT
UID:306@mhwk.de
DTSTART;TZID=Europe/Berlin:20200710T150000
DTEND;TZID=Europe/Berlin:20200710T183000
DTSTAMP:20200130T113731Z
URL:https://www.mhwk.de/events/mhwk-fahrradtour-4/
SUMMARY:MHWK-Fahrradtour
DESCRIPTION:
CATEGORIES:Sport &amp; Freizeit
END:VEVENT
BEGIN:VTIMEZONE
TZID:Europe/Berlin
X-LIC-LOCATION:Europe/Berlin
BEGIN:DAYLIGHT
DTSTART:20200329T030000
TZOFFSETFROM:+0100
TZOFFSETTO:+0200
TZNAME:CEST
END:DAYLIGHT
END:VTIMEZONE
END:VCALENDAR