BEGIN:VCALENDAR
VERSION:2.0
PRODID:-//wp-events-plugin.com//7.2.3.1//EN
TZID:Europe/Berlin
X-WR-TIMEZONE:Europe/Berlin
BEGIN:VEVENT
UID:312@mhwk.de
DTSTART;TZID=Europe/Berlin:20200512T190000
DTEND;TZID=Europe/Berlin:20200512T220000
DTSTAMP:20200423T104352Z
URL:https://www.mhwk.de/events/mhwk-bowlingabend/
SUMMARY:Abgesagt - MHWK-Bowlingabend
DESCRIPTION:
CATEGORIES:MHWK-Unternehmertreff,Sport &amp; Freizeit
LOCATION:American Bowl & Play off\, Märkische Allee 176-178\, Berlin\, 126
 79\, Deutschland
GEO:52.5422342;13.541561600000023
X-APPLE-STRUCTURED-LOCATION;VALUE=URI;X-ADDRESS=Märkische Allee 176-178\, 
 Berlin\, 12679\, Deutschland;X-APPLE-RADIUS=100;X-TITLE=American Bowl & Pl
 ay off:geo:52.5422342,13.541561600000023
END:VEVENT
BEGIN:VTIMEZONE
TZID:Europe/Berlin
X-LIC-LOCATION:Europe/Berlin
BEGIN:DAYLIGHT
DTSTART:20200329T030000
TZOFFSETFROM:+0100
TZOFFSETTO:+0200
TZNAME:CEST
END:DAYLIGHT
END:VTIMEZONE
END:VCALENDAR