BEGIN:VCALENDAR
VERSION:2.0
PRODID:-//wp-events-plugin.com//7.2.3.1//EN
TZID:Europe/Berlin
X-WR-TIMEZONE:Europe/Berlin
BEGIN:VEVENT
UID:402@mhwk.de
DTSTART;TZID=Europe/Berlin;VALUE=DATE:20220823
DTEND;TZID=Europe/Berlin;VALUE=DATE:20220826
DTSTAMP:20220627T092244Z
URL:https://www.mhwk.de/events/methodenwoche-siemens-gymnasium/
SUMMARY:Methodenwoche Siemens-Gymnasium
DESCRIPTION:
END:VEVENT
BEGIN:VTIMEZONE
TZID:Europe/Berlin
X-LIC-LOCATION:Europe/Berlin
BEGIN:DAYLIGHT
DTSTART:20220327T030000
TZOFFSETFROM:+0100
TZOFFSETTO:+0200
TZNAME:CEST
END:DAYLIGHT
END:VTIMEZONE
END:VCALENDAR