BEGIN:VCALENDAR
VERSION:2.0
PRODID:-//wp-events-plugin.com//7.2.3.1//EN
TZID:Europe/Berlin
X-WR-TIMEZONE:Europe/Berlin
BEGIN:VEVENT
UID:302@mhwk.de
DTSTART;TZID=Europe/Berlin:20200327T130000
DTEND;TZID=Europe/Berlin:20200327T143000
DTSTAMP:20200318T131103Z
URL:https://www.mhwk.de/events/kompetenzteam-kita-sport-3/
SUMMARY:Abgesagt - Kompetenzteam Kita-Sport
DESCRIPTION:
CATEGORIES:Arbeitsgruppe
LOCATION:MHWK-Geschäftsstelle\, Leunaer Str. 7\, Berlin\, 12681\, Deutschl
 and
GEO:52.5582351;13.552801499999987
X-APPLE-STRUCTURED-LOCATION;VALUE=URI;X-ADDRESS=Leunaer Str. 7\, Berlin\, 1
 2681\, Deutschland;X-APPLE-RADIUS=100;X-TITLE=MHWK-Geschäftsstelle:geo:52
 .5582351,13.552801499999987
END:VEVENT
BEGIN:VTIMEZONE
TZID:Europe/Berlin
X-LIC-LOCATION:Europe/Berlin
BEGIN:STANDARD
DTSTART:20191027T020000
TZOFFSETFROM:+0200
TZOFFSETTO:+0100
TZNAME:CET
END:STANDARD
END:VTIMEZONE
END:VCALENDAR