BEGIN:VCALENDAR
VERSION:2.0
PRODID:-//wp-events-plugin.com//7.2.3.1//EN
TZID:Europe/Berlin
X-WR-TIMEZONE:Europe/Berlin
BEGIN:VEVENT
UID:401@mhwk.de
DTSTART;TZID=Europe/Berlin:20220805T100000
DTEND;TZID=Europe/Berlin:20220806T120000
DTSTAMP:20220627T092052Z
URL:https://www.mhwk.de/events/klausurtagung-des-vorstands-2/
SUMMARY:Klausurtagung des Vorstands
DESCRIPTION:
LOCATION:Hotel & Spa Sommerfeld (Hotel am See Sommerfeld Betriebs GmbH)\, B
 eetzer Str. 1A\, Kremmen\, 16766 \, Deutschland
X-APPLE-STRUCTURED-LOCATION;VALUE=URI;X-ADDRESS=Beetzer Str. 1A\, Kremmen\,
  16766 \, Deutschland;X-APPLE-RADIUS=100;X-TITLE=Hotel & Spa Sommerfeld (H
 otel am See Sommerfeld Betriebs GmbH):geo:0,0
END:VEVENT
BEGIN:VTIMEZONE
TZID:Europe/Berlin
X-LIC-LOCATION:Europe/Berlin
BEGIN:DAYLIGHT
DTSTART:20220327T030000
TZOFFSETFROM:+0100
TZOFFSETTO:+0200
TZNAME:CEST
END:DAYLIGHT
END:VTIMEZONE
END:VCALENDAR