BEGIN:VCALENDAR
VERSION:2.0
PRODID:-//wp-events-plugin.com//7.2.3.1//EN
TZID:Europe/Berlin
X-WR-TIMEZONE:Europe/Berlin
BEGIN:VEVENT
UID:331@mhwk.de
DTSTART;TZID=Europe/Berlin:20200820T090000
DTEND;TZID=Europe/Berlin:20200820T120000
DTSTAMP:20200814T124515Z
URL:https://www.mhwk.de/events/information-zur-kennenlerntag-fuer-einen-be
 ruf-in-der-gebaeudereinigung/
SUMMARY:Information zur Kennenlerntag für einen Beruf in der Gebäudereini
 gung
DESCRIPTION:Interessieren Sie sich für einen Beruf in der Gebäudereinigun
 g?\n\nWir stellen ein!\n\nLassen Sie uns gemeinsam herausfinden\, ob wir z
 usammenpassen –\n\nkommen Sie gerne zu unserem Kennenlerntag.\n\nam 20.0
 8.2020\n\nzwischen 9 und 12 Uhr\n\nin der Marzahner Chaussee 158-164\, 126
 81 Berlin\n\nUnverbindlich und ergebnisoffen stellen wir uns Ihnen als mö
 gliche*n neue*n Arbeitgeber*in vor und freuen uns\, Sie\, Ihre Bedürfniss
 e und Ihre gewünschten Arbeitsbedingungen kennenzulernen.\n\nVielleicht p
 assen wir ja zusammen.\n\nWir freuen uns auf Sie!\n\nIhr Team der Gebäude
 service Wodara GmbH
CATEGORIES:Mitglieder empfehlen
LOCATION:Gebäudeservice Wodara GmbH\, Marzahner Chaussee 158 – 164\, Ber
 lin\, DE\, 12681\, Deutschland
X-APPLE-STRUCTURED-LOCATION;VALUE=URI;X-ADDRESS=Marzahner Chaussee 158 – 
 164\, Berlin\, DE\, 12681\, Deutschland;X-APPLE-RADIUS=100;X-TITLE=Gebäud
 eservice Wodara GmbH:geo:0,0
END:VEVENT
BEGIN:VTIMEZONE
TZID:Europe/Berlin
X-LIC-LOCATION:Europe/Berlin
BEGIN:DAYLIGHT
DTSTART:20200329T030000
TZOFFSETFROM:+0100
TZOFFSETTO:+0200
TZNAME:CEST
END:DAYLIGHT
END:VTIMEZONE
END:VCALENDAR