BEGIN:VCALENDAR
VERSION:2.0
PRODID:-//wp-events-plugin.com//7.2.3.1//EN
TZID:Europe/Berlin
X-WR-TIMEZONE:Europe/Berlin
BEGIN:VEVENT
UID:20@mhwk.de
DTSTART;TZID=Europe/Berlin;VALUE=DATE:20150423
DTEND;TZID=Europe/Berlin;VALUE=DATE:20150424
DTSTAMP:20150413T105436Z
URL:https://www.mhwk.de/events/girlsund-boysday/
SUMMARY:Girls´und Boys`Day
DESCRIPTION:Mit dem Girls'Day Ihren Nachwuchs sichern - So geht`s: hier\n\n
 ... und zum Boys’Day einladen. Machen Sie mit .....hier
CATEGORIES:Workshop
END:VEVENT
BEGIN:VTIMEZONE
TZID:Europe/Berlin
X-LIC-LOCATION:Europe/Berlin
BEGIN:DAYLIGHT
DTSTART:20150329T030000
TZOFFSETFROM:+0100
TZOFFSETTO:+0200
TZNAME:CEST
END:DAYLIGHT
END:VTIMEZONE
END:VCALENDAR