BEGIN:VCALENDAR
VERSION:2.0
PRODID:-//wp-events-plugin.com//7.2.3.1//EN
TZID:Europe/Berlin
X-WR-TIMEZONE:Europe/Berlin
BEGIN:VEVENT
UID:398@mhwk.de
DTSTART;TZID=Europe/Berlin:20220702T100000
DTEND;TZID=Europe/Berlin:20220702T100000
DTSTAMP:20220420T112536Z
URL:https://www.mhwk.de/events/gemeinschaftsveranstaltung-fuer-ukrainische
 -familien-und-deren-kinder-in-marzahn-kinder-bowling-spass/
SUMMARY:Gemeinschaftsveranstaltung für ukrainische Familien und deren Kind
 er in Marzahn "Kinder Bowling-Spaß“
DESCRIPTION:
CATEGORIES:Sport &amp; Freizeit
LOCATION:American Bowl & Play off\, Märkische Allee 176-178\, Berlin\, 126
 79\, Deutschland
GEO:52.5422342;13.541561600000023
X-APPLE-STRUCTURED-LOCATION;VALUE=URI;X-ADDRESS=Märkische Allee 176-178\, 
 Berlin\, 12679\, Deutschland;X-APPLE-RADIUS=100;X-TITLE=American Bowl & Pl
 ay off:geo:52.5422342,13.541561600000023
END:VEVENT
BEGIN:VTIMEZONE
TZID:Europe/Berlin
X-LIC-LOCATION:Europe/Berlin
BEGIN:DAYLIGHT
DTSTART:20220327T030000
TZOFFSETFROM:+0100
TZOFFSETTO:+0200
TZNAME:CEST
END:DAYLIGHT
END:VTIMEZONE
END:VCALENDAR