BEGIN:VCALENDAR
VERSION:2.0
PRODID:-//wp-events-plugin.com//7.2.3.1//EN
TZID:Europe/Berlin
X-WR-TIMEZONE:Europe/Berlin
BEGIN:VEVENT
UID:536@mhwk.de
DTSTART;TZID=Europe/Berlin:20260305T180000
DTEND;TZID=Europe/Berlin:20260305T210000
DTSTAMP:20251029T073812Z
URL:https://www.mhwk.de/events/felix-wohnungsgenossenschaft-eg-mhwk-skattu
 rnier/
SUMMARY:FELIX Wohnungsgenossenschaft eG & MHWK Skatturnier
DESCRIPTION:
CATEGORIES:MHWK-Unternehmerinnentreff,MHWK-Unternehmertreff,Mitglieder
 empfehlen,Sport &amp; Freizeit,Unternehmertreffen
LOCATION:FELIX Wohnungsgenossenschaft eG\, Schwarzburger Straße 10\, Berli
 n\, 12687\, Deutschland
GEO:52.5595012;13.57085649999999
X-APPLE-STRUCTURED-LOCATION;VALUE=URI;X-ADDRESS=Schwarzburger Straße 10\, 
 Berlin\, 12687\, Deutschland;X-APPLE-RADIUS=100;X-TITLE=FELIX Wohnungsgeno
 ssenschaft eG:geo:52.5595012,13.57085649999999
END:VEVENT
BEGIN:VTIMEZONE
TZID:Europe/Berlin
X-LIC-LOCATION:Europe/Berlin
BEGIN:STANDARD
DTSTART:20251026T020000
TZOFFSETFROM:+0200
TZOFFSETTO:+0100
TZNAME:CET
END:STANDARD
END:VTIMEZONE
END:VCALENDAR