BEGIN:VCALENDAR
VERSION:2.0
PRODID:-//wp-events-plugin.com//7.2.3.1//EN
TZID:Europe/Berlin
X-WR-TIMEZONE:Europe/Berlin
BEGIN:VEVENT
UID:300@mhwk.de
DTSTART;TZID=Europe/Berlin:20200305T180000
DTEND;TZID=Europe/Berlin:20200305T220000
DTSTAMP:20200209T160147Z
URL:https://www.mhwk.de/events/felix-mhwk-nsw24-skatturnier/
SUMMARY:FELIX/MHWK/nsw24-Skatturnier
DESCRIPTION:
CATEGORIES:Sport &amp; Freizeit
LOCATION:FELIX Wohnungsgenossenschtaft e.G.\, Schwarzburger Straße 10\, Be
 rlin\, 12687\, Deutschland
GEO:52.5596489;13.570446599999968
X-APPLE-STRUCTURED-LOCATION;VALUE=URI;X-ADDRESS=Schwarzburger Straße 10\, 
 Berlin\, 12687\, Deutschland;X-APPLE-RADIUS=100;X-TITLE=FELIX Wohnungsgeno
 ssenschtaft e.G.:geo:52.5596489,13.570446599999968
END:VEVENT
BEGIN:VTIMEZONE
TZID:Europe/Berlin
X-LIC-LOCATION:Europe/Berlin
BEGIN:STANDARD
DTSTART:20191027T020000
TZOFFSETFROM:+0200
TZOFFSETTO:+0100
TZNAME:CET
END:STANDARD
END:VTIMEZONE
END:VCALENDAR