BEGIN:VCALENDAR
VERSION:2.0
PRODID:-//wp-events-plugin.com//7.2.3.1//EN
TZID:Europe/Berlin
X-WR-TIMEZONE:Europe/Berlin
BEGIN:VEVENT
UID:350@mhwk.de
DTSTART;TZID=Europe/Berlin:20210610T130000
DTEND;TZID=Europe/Berlin:20210610T150000
DTSTAMP:20210518T100229Z
URL:https://www.mhwk.de/events/expertenrunde-industrie-5/
SUMMARY:Expertenrunde Industrie
DESCRIPTION:
CATEGORIES:Arbeitsgruppe,MHWK-Unternehmertreff,Unternehmertreffen
LOCATION:Historische Tankstelle\, Georg-Knorr-Straße 4\, Berlin\, 12681\, 
 Deutschland
X-APPLE-STRUCTURED-LOCATION;VALUE=URI;X-ADDRESS=Georg-Knorr-Straße 4\, Ber
 lin\, 12681\, Deutschland;X-APPLE-RADIUS=100;X-TITLE=Historische Tankstell
 e:geo:0,0
END:VEVENT
BEGIN:VTIMEZONE
TZID:Europe/Berlin
X-LIC-LOCATION:Europe/Berlin
BEGIN:DAYLIGHT
DTSTART:20210328T030000
TZOFFSETFROM:+0100
TZOFFSETTO:+0200
TZNAME:CEST
END:DAYLIGHT
END:VTIMEZONE
END:VCALENDAR