BEGIN:VCALENDAR
VERSION:2.0
PRODID:-//wp-events-plugin.com//7.2.3.1//EN
TZID:Europe/Berlin
X-WR-TIMEZONE:Europe/Berlin
BEGIN:VEVENT
UID:336@mhwk.de
DTSTART;TZID=Europe/Berlin:20200921T140000
DTEND;TZID=Europe/Berlin:20200921T153000
DTSTAMP:20200827T091000Z
URL:https://www.mhwk.de/events/expertenrunde-industrie-4/
SUMMARY:Expertenrunde Industrie
DESCRIPTION:
CATEGORIES:MHWK-Unternehmerparty,Unternehmertreffen
LOCATION:Lischka GmbH\, Boxberger Str. 19\, Berlin\, 12681\, Deutschland
X-APPLE-STRUCTURED-LOCATION;VALUE=URI;X-ADDRESS=Boxberger Str. 19\, Berlin\
 , 12681\, Deutschland;X-APPLE-RADIUS=100;X-TITLE=Lischka GmbH:geo:0,0
END:VEVENT
BEGIN:VTIMEZONE
TZID:Europe/Berlin
X-LIC-LOCATION:Europe/Berlin
BEGIN:DAYLIGHT
DTSTART:20200329T030000
TZOFFSETFROM:+0100
TZOFFSETTO:+0200
TZNAME:CEST
END:DAYLIGHT
END:VTIMEZONE
END:VCALENDAR