BEGIN:VCALENDAR
VERSION:2.0
PRODID:-//wp-events-plugin.com//7.2.3.1//EN
TZID:Europe/Berlin
X-WR-TIMEZONE:Europe/Berlin
BEGIN:VEVENT
UID:309@mhwk.de
DTSTART;TZID=Europe/Berlin:20200326T110000
DTEND;TZID=Europe/Berlin:20200326T123000
DTSTAMP:20200318T130956Z
URL:https://www.mhwk.de/events/expertenrunde-industrie-3/
SUMMARY:Abgesagt - Expertenrunde Industrie
DESCRIPTION:
CATEGORIES:Arbeitsgruppe
LOCATION:Lischka GmbH\, Boxberger Str. 19\, Berlin\, 12681\, Deutschland
X-APPLE-STRUCTURED-LOCATION;VALUE=URI;X-ADDRESS=Boxberger Str. 19\, Berlin\
 , 12681\, Deutschland;X-APPLE-RADIUS=100;X-TITLE=Lischka GmbH:geo:0,0
END:VEVENT
BEGIN:VTIMEZONE
TZID:Europe/Berlin
X-LIC-LOCATION:Europe/Berlin
BEGIN:STANDARD
DTSTART:20191027T020000
TZOFFSETFROM:+0200
TZOFFSETTO:+0100
TZNAME:CET
END:STANDARD
END:VTIMEZONE
END:VCALENDAR