BEGIN:VCALENDAR
VERSION:2.0
PRODID:-//wp-events-plugin.com//7.2.3.1//EN
TZID:Europe/Berlin
X-WR-TIMEZONE:Europe/Berlin
BEGIN:VEVENT
UID:535@mhwk.de
DTSTART;TZID=Europe/Berlin:20260127T180000
DTEND;TZID=Europe/Berlin:20260127T210000
DTSTAMP:20260114T125401Z
URL:https://www.mhwk.de/events/expertenrunde-gesundheitswirtschaft-10/
SUMMARY:Expertenrunde Gesundheitswirtschaft
DESCRIPTION:
CATEGORIES:Arbeitsgruppe
LOCATION:Restaurant Elia\, Köpenicker Str. 181\, Berlin\, Berlin\, 12683\,
  Berlin Biesdorf\, Deutschland
X-APPLE-STRUCTURED-LOCATION;VALUE=URI;X-ADDRESS=Köpenicker Str. 181\, Berl
 in\, Berlin\, 12683\, Berlin Biesdorf\, Deutschland;X-APPLE-RADIUS=100;X-T
 ITLE=Restaurant Elia:geo:0,0
END:VEVENT
BEGIN:VTIMEZONE
TZID:Europe/Berlin
X-LIC-LOCATION:Europe/Berlin
BEGIN:STANDARD
DTSTART:20251026T020000
TZOFFSETFROM:+0200
TZOFFSETTO:+0100
TZNAME:CET
END:STANDARD
END:VTIMEZONE
END:VCALENDAR