BEGIN:VCALENDAR
VERSION:2.0
PRODID:-//wp-events-plugin.com//7.2.3.1//EN
TZID:Europe/Berlin
X-WR-TIMEZONE:Europe/Berlin
BEGIN:VEVENT
UID:303@mhwk.de
DTSTART;TZID=Europe/Berlin:20200510T100000
DTEND;TZID=Europe/Berlin:20200510T180000
DTSTAMP:20200318T131219Z
URL:https://www.mhwk.de/events/erlebe-deine-region/
SUMMARY:Abgesagt - Erlebe Deine Region
DESCRIPTION:
CATEGORIES:Unternehmertreffen
END:VEVENT
BEGIN:VTIMEZONE
TZID:Europe/Berlin
X-LIC-LOCATION:Europe/Berlin
BEGIN:DAYLIGHT
DTSTART:20200329T030000
TZOFFSETFROM:+0100
TZOFFSETTO:+0200
TZNAME:CEST
END:DAYLIGHT
END:VTIMEZONE
END:VCALENDAR