BEGIN:VCALENDAR
VERSION:2.0
PRODID:-//wp-events-plugin.com//7.2.3.1//EN
TZID:Europe/Berlin
X-WR-TIMEZONE:Europe/Berlin
BEGIN:VEVENT
UID:418@mhwk.de
DTSTART;TZID=Europe/Berlin:20221123T180000
DTEND;TZID=Europe/Berlin:20221123T180000
DTSTAMP:20221123T131648Z
URL:https://www.mhwk.de/events/einladung-wirtschaftsforum-marzahn-hellersd
 orf/
SUMMARY:Wirtschaftsforum Marzahn-Hellersdorf
DESCRIPTION:
CATEGORIES:Mitglieder empfehlen
LOCATION:Schloss Biesdorf\, Alt-Biesdorf 55\, Berlin\, 12683\, Deutschland
GEO:52.50976;13.557590000000005
X-APPLE-STRUCTURED-LOCATION;VALUE=URI;X-ADDRESS=Alt-Biesdorf 55\, Berlin\, 
 12683\, Deutschland;X-APPLE-RADIUS=100;X-TITLE=Schloss Biesdorf:geo:52.509
 76,13.557590000000005
END:VEVENT
BEGIN:VTIMEZONE
TZID:Europe/Berlin
X-LIC-LOCATION:Europe/Berlin
BEGIN:STANDARD
DTSTART:20221030T020000
TZOFFSETFROM:+0200
TZOFFSETTO:+0100
TZNAME:CET
END:STANDARD
END:VTIMEZONE
END:VCALENDAR