BEGIN:VCALENDAR
VERSION:2.0
PRODID:-//wp-events-plugin.com//7.2.3.1//EN
TZID:Europe/Berlin
X-WR-TIMEZONE:Europe/Berlin
BEGIN:VEVENT
UID:3@mhwk.de
DTSTART;TZID=Europe/Berlin:20150112T140000
DTEND;TZID=Europe/Berlin:20150112T150000
DTSTAMP:20150120T154637Z
URL:https://www.mhwk.de/events/curabitur-malesuada-2/
SUMMARY:Curabitur malesuada
DESCRIPTION:Vestibulum sodales urna nisl\, sed fringilla orci semper vel. N
 ullam imperdiet semper mauris\, sed pretium magna rutrum eget. In id orci 
 vulputate\, volutpat erat non\, molestie mi. In quam lorem\, aliquam sit a
 met accumsan nec\, facilisis eu elit. Proin id fringilla erat. Suspendisse
  pulvinar tellus non neque iaculis blandit.
ATTACH;FMTTYPE=image/jpeg:https://www.mhwk.de/wp-content/uploads/2015/01/1
 102_GD_Preis.jpg
CATEGORIES:MHWK-Unternehmerinnentreff
LOCATION:MHWK-Geschäftsstelle\, Georg-Knorr-Straße 4\, Haus 1\, F2\, Berl
 in\, 12681\, Deutschland
GEO:52.53984999999999;13.533599999999979
X-APPLE-STRUCTURED-LOCATION;VALUE=URI;X-ADDRESS=Georg-Knorr-Straße 4\, Hau
 s 1\, F2\, Berlin\, 12681\, Deutschland;X-APPLE-RADIUS=100;X-TITLE=MHWK-Ge
 schäftsstelle:geo:52.53984999999999,13.533599999999979
END:VEVENT
BEGIN:VTIMEZONE
TZID:Europe/Berlin
X-LIC-LOCATION:Europe/Berlin
BEGIN:STANDARD
DTSTART:20141026T020000
TZOFFSETFROM:+0200
TZOFFSETTO:+0100
TZNAME:CET
END:STANDARD
END:VTIMEZONE
END:VCALENDAR