BEGIN:VCALENDAR
VERSION:2.0
PRODID:-//wp-events-plugin.com//7.2.3.1//EN
TZID:Europe/Berlin
X-WR-TIMEZONE:Europe/Berlin
BEGIN:VEVENT
UID:18@mhwk.de
DTSTART;TZID=Europe/Berlin:20150415T170000
DTEND;TZID=Europe/Berlin:20150415T190000
DTSTAMP:20150415T120809Z
URL:https://www.mhwk.de/events/arbeitsgruppe-gesundheitswirtschaft/
SUMMARY:AG Gesundheitswirtschaft
DESCRIPTION:Treffen der Vertreter der Gesundheitswirtschaft zur Vorbereitun
 g des GesundheitsWirtschaftsTages 2015\nsiehe auch https://wp.gesundheitsw
 irtschaft-mh.de/ 
CATEGORIES:Arbeitsgruppe
LOCATION:Gasthaus St. Hubertus\, Hultschiner Damm 2\, 12623\, Berlin\, Deut
 schland
GEO:52.47439;13.59979999999996
X-APPLE-STRUCTURED-LOCATION;VALUE=URI;X-ADDRESS=Hultschiner Damm 2\, 12623\
 , Berlin\, Deutschland;X-APPLE-RADIUS=100;X-TITLE=Gasthaus St. Hubertus:ge
 o:52.47439,13.59979999999996
END:VEVENT
BEGIN:VTIMEZONE
TZID:Europe/Berlin
X-LIC-LOCATION:Europe/Berlin
BEGIN:DAYLIGHT
DTSTART:20150329T030000
TZOFFSETFROM:+0100
TZOFFSETTO:+0200
TZNAME:CEST
END:DAYLIGHT
END:VTIMEZONE
END:VCALENDAR