BEGIN:VCALENDAR
VERSION:2.0
PRODID:-//wp-events-plugin.com//7.2.3.1//EN
TZID:Europe/Berlin
X-WR-TIMEZONE:Europe/Berlin
BEGIN:VEVENT
UID:323@mhwk.de
DTSTART;TZID=Europe/Berlin:20200811T163000
DTEND;TZID=Europe/Berlin:20200811T163000
DTSTAMP:20200629T122325Z
URL:https://www.mhwk.de/events/abgesagt-11-eastside-cup-beachvolleyball/
SUMMARY:abgesagt 11. Eastside Cup Beachvolleyball
DESCRIPTION:
CATEGORIES:Sport &amp; Freizeit
LOCATION:EASTSIDE-Beach\, Paul-Schwenk-Str. 5a\, Berlin\, 12685\, Deutschla
 nd
GEO:52.537163;13.540034699999978
X-APPLE-STRUCTURED-LOCATION;VALUE=URI;X-ADDRESS=Paul-Schwenk-Str. 5a\, Berl
 in\, 12685\, Deutschland;X-APPLE-RADIUS=100;X-TITLE=EASTSIDE-Beach:geo:52.
 537163,13.540034699999978
END:VEVENT
BEGIN:VTIMEZONE
TZID:Europe/Berlin
X-LIC-LOCATION:Europe/Berlin
BEGIN:DAYLIGHT
DTSTART:20200329T030000
TZOFFSETFROM:+0100
TZOFFSETTO:+0200
TZNAME:CEST
END:DAYLIGHT
END:VTIMEZONE
END:VCALENDAR