BEGIN:VCALENDAR
VERSION:2.0
PRODID:-//wp-events-plugin.com//7.2.3.1//EN
TZID:Europe/Berlin
X-WR-TIMEZONE:Europe/Berlin
BEGIN:VEVENT
UID:424@mhwk.de
DTSTART;TZID=Europe/Berlin:20230315T160000
DTEND;TZID=Europe/Berlin:20230315T180000
DTSTAMP:20221114T105151Z
URL:https://www.mhwk.de/events/9-vorstandssitzung/
SUMMARY:9. Vorstandssitzung
DESCRIPTION:
CATEGORIES:Vorstandssitzung
END:VEVENT
BEGIN:VTIMEZONE
TZID:Europe/Berlin
X-LIC-LOCATION:Europe/Berlin
BEGIN:STANDARD
DTSTART:20221030T020000
TZOFFSETFROM:+0200
TZOFFSETTO:+0100
TZNAME:CET
END:STANDARD
END:VTIMEZONE
END:VCALENDAR